BEGIN:VCALENDAR
VERSION:2.0
PRODID:-//Helloji.com - ECPv6.15.20//NONSGML v1.0//EN
CALSCALE:GREGORIAN
METHOD:PUBLISH
X-WR-CALNAME:Helloji.com
X-ORIGINAL-URL:https://www.helloji.com
X-WR-CALDESC:Events for Helloji.com
REFRESH-INTERVAL;VALUE=DURATION:PT1H
X-Robots-Tag:noindex
X-PUBLISHED-TTL:PT1H
BEGIN:VTIMEZONE
TZID:UTC
BEGIN:STANDARD
TZOFFSETFROM:+0000
TZOFFSETTO:+0000
TZNAME:UTC
DTSTART:20240101T000000
END:STANDARD
END:VTIMEZONE
BEGIN:VEVENT
DTSTART;VALUE=DATE:20250130
DTEND;VALUE=DATE:20250202
DTSTAMP:20260421T134322
CREATED:20250130T103032Z
LAST-MODIFIED:20241202T102223Z
UID:515-1738195200-1738454399@www.helloji.com
SUMMARY:IMCAS World Congress 2025
DESCRIPTION:The 2025 IMCAS World Congress promises to be one of the most highly anticipated events in the dermatology\, plastic surgery\, and aging science community. Gathering in Paris\, the congress will be providing a global overview of the latest breakthroughs and innovations in our community\, as well as being the epicenter of the market with more than 350 exhibitors showcasing their products. Due to the high volume of attendees in 2024\, please consider booking sooner rather than later\, to ensure your attendance!
URL:https://www.helloji.com/event/imcas/
LOCATION:Paris\, Palais des Congrès de Paris 2 Place de la Porte Maillot\,\, 75017\, France
CATEGORIES:Seminars
ATTACH;FMTTYPE=image/jpeg:https://www.helloji.com/wp-content/uploads/2021/03/event-5.jpg
ORGANIZER;CN="Helloji.com":MAILTO:contact@helloji.com
END:VEVENT
BEGIN:VEVENT
DTSTART;VALUE=DATE:20250130
DTEND;VALUE=DATE:20250202
DTSTAMP:20260421T134322
CREATED:20241202T145001Z
LAST-MODIFIED:20241203T065531Z
UID:2370-1738195200-1738454399@www.helloji.com
SUMMARY:IMCAS World Congress 2025
DESCRIPTION:The 2025 IMCAS World Congress promises to be one of the most highly anticipated events in the dermatology\, plastic surgery\, and aging science community. Gathering in Paris\, the congress will be providing a global overview of the latest breakthroughs and innovations in our community\, as well as being the epicenter of the market with more than 350 exhibitors showcasing their products. Due to the high volume of attendees in 2024\, please consider booking sooner rather than later\, to ensure your attendance!
URL:https://www.helloji.com/event/imcas-world-congress-2025/
LOCATION:Paris\, Palais des Congrès de Paris 2 Place de la Porte Maillot\,\, 75017\, France
ATTACH;FMTTYPE=image/jpeg:https://www.helloji.com/wp-content/uploads/2021/03/event-5.jpg
END:VEVENT
END:VCALENDAR